BEGIN:VCALENDAR
VERSION:2.0
PRODID:-//Azul 615 - ECPv6.15.13.1//NONSGML v1.0//EN
CALSCALE:GREGORIAN
METHOD:PUBLISH
X-WR-CALNAME:Azul 615
X-ORIGINAL-URL:https://azul615.com
X-WR-CALDESC:Events for Azul 615
REFRESH-INTERVAL;VALUE=DURATION:PT1H
X-Robots-Tag:noindex
X-PUBLISHED-TTL:PT1H
BEGIN:VTIMEZONE
TZID:America/Mexico_City
BEGIN:STANDARD
TZOFFSETFROM:-0600
TZOFFSETTO:-0600
TZNAME:CST
DTSTART:20250101T000000
END:STANDARD
END:VTIMEZONE
BEGIN:VEVENT
DTSTART;TZID=America/Mexico_City:20260801T090000
DTEND;TZID=America/Mexico_City:20260809T090000
DTSTAMP:20260425T092417
CREATED:20260424T054609Z
LAST-MODIFIED:20260424T054612Z
UID:3666-1785574800-1786266000@azul615.com
SUMMARY:Fleurs de Villes THE GILDED AGE 
DESCRIPTION:Global flower show sensation Fleurs de Villes returns to Cheekwood to debut Fleurs de Villes THE GILDED AGE\, presented in a flower-filled partnership with HBO Max® — a fresh floral celebration that brings the opulence\, ambition\, and iconic characters of the hit HBO® drama series to life through stunning fresh floral artistry.\n\nFrom August 1–9\, discover a curated collection of one-of-a-kind fresh floral mannequins displayed throughout Cheekwood’s Botanic Hall\, Frist Learning Center\, and Historic Mansion & Museum. This stunning showcase celebrates The Gilded Age\, the acclaimed drama set in late 19th-century New York\, where old money and new ambition collide in a time of extraordinary social change — reimagined through spectacular floral storytelling.\n\nCreated by Nashville’s talented floral designers\, each floral masterpiece interprets the series’ distinct characters and opulent style — from the bold\, aspirational gowns of Bertha Russell to the refined sophistication of Agnes van Rhijn\, the understated elegance of Marian Brook\, and the modern perspective of Peggy Scott — inviting visitors to experience the elegance and intrigue of The Gilded Age in full bloom.
URL:https://azul615.com/event/fleurs-de-villes-the-gilded-age/
LOCATION:Cheekwood Estate & Gardens\, 1200 Forrest Park Drive\, Nashville\, TN\, 37205\, United States
ATTACH;FMTTYPE=image/jpeg:https://azul615.com/wp-content/uploads/2026/04/hFRnnJ7PWa0k-FDV-GA-Cheekwood_Website-Hero-2560x2160-2-scaled-1.jpg
END:VEVENT
END:VCALENDAR