BEGIN:VCALENDAR
VERSION:2.0
PRODID:-//Azul 615 - ECPv6.15.13.1//NONSGML v1.0//EN
CALSCALE:GREGORIAN
METHOD:PUBLISH
X-WR-CALNAME:Azul 615
X-ORIGINAL-URL:https://azul615.com
X-WR-CALDESC:Events for Azul 615
REFRESH-INTERVAL;VALUE=DURATION:PT1H
X-Robots-Tag:noindex
X-PUBLISHED-TTL:PT1H
BEGIN:VTIMEZONE
TZID:America/Mexico_City
BEGIN:STANDARD
TZOFFSETFROM:-0600
TZOFFSETTO:-0600
TZNAME:CST
DTSTART:20240101T000000
END:STANDARD
END:VTIMEZONE
BEGIN:VEVENT
DTSTART;TZID=America/Mexico_City:20251217T200000
DTEND;TZID=America/Mexico_City:20251217T200000
DTSTAMP:20260425T070546
CREATED:20251211T055244Z
LAST-MODIFIED:20251211T055549Z
UID:3275-1766001600-1766001600@azul615.com
SUMMARY:Feliz Navi-Dee's with Rachel Rodriguez\, Elia Sparza and Cactus y
DESCRIPTION:La Cara Productions Presents: Feliz Navi-Dee’s \nLive music\, Holiday tunes and Posada themed cocktails\n\nCome get festive as we celebrate the holidays with some Rock\, Country\, Pop and a little bit of Tex-Mex.\n\nFeaturing:\nRachel Rodriguez\nElia Esparza\nCactus Fire\n\nVen a celebrar las fiestas Navideñas con nosotros! No te lo puedes perder. Allá nos vemos!
URL:https://azul615.com/event/feliz-navi-dees-with-rachel-rodriguez-elia-sparza-and-cactus-y/
LOCATION:Dee’s Country Cocktail Lounge\, 102 E Palestine Ave\, Madison\, TN\, 37115\, United States
ATTACH;FMTTYPE=image/png:https://azul615.com/wp-content/uploads/2025/12/0RVeAV7RpZHf-IMG_20251201_202656.png
END:VEVENT
BEGIN:VEVENT
DTSTART;TZID=America/Mexico_City:20260219T193000
DTEND;TZID=America/Mexico_City:20260219T193000
DTSTAMP:20260425T070546
CREATED:20260215T162345Z
LAST-MODIFIED:20260215T162414Z
UID:3433-1771529400-1771529400@azul615.com
SUMMARY:Sergio & Odair Assad: Duo Assad
DESCRIPTION:Join us for the guitar event of the year as Blair School of Music welcomes internationally acclaimed Brazilian duo Sérgio and Odair Assad: Duo Assad\, Thursday\, February 19 in Ingram Hall. Called “the best two-guitar team in existence” by The Washington Post\, the Assad brothers have electrified audiences around the world with their unparalleled technical brilliance and emotive performances. Don’t miss an unforgettable evening with these virtuoso musicians.\n\nThursday\, February 19\, 2026 | Ingram Hall | 7:30 p.m.\n\nAcclaim for the Assads:\n\n“They aren’t just soloists but a two-man\, multi voice band of soloists who play instinctively well together\, with consistent rhythmic intuition and soul.” – The Los Angeles Times\n\n“The Brazilian-born Assad brothers…perform with almost telepathic unity” – The Boston Globe\n\n“… the best two-guitar team in existence\, maybe even in history… no amount of anticipation could have prepared me for the Brazilian brothers’ daringly flexible\, eerily unanimous ensemble playing – it was as if they could see inside each other’s heads.” – The Washington Post\n\n“Throughout the concert\, the brothers played as one… This was two persons\, four hands\, one mind.” – Seattle Post-Intelligencer\n\n“A kind of wizardry lies within the playing of Sergio and Odair Assad… they produce a supple\, flawless unified sound.” – The New York Times\n\n“…Sergio and Odair\, two of the finest guitarists on the planet.” – Journal Sentinel\n\n“…it’s not hard to imagine that acoustic guitar music\, when in the hands of masters like Sergio and Odair Assad\, is a musical window into the heart.”- The New Jersey Star- Ledger\n\n“Because they have been performing together for most of their lives\, and because they play from memory\, there is a lively interaction between them that creates the impression that they are improvising like a couple of virtuosic\, perhaps even telepathic\, jazz players” – The New York Times
URL:https://azul615.com/event/sergio-odair-assad-duo-assad/
LOCATION:Ingram Hall / Vanderbilt University Blair School of Music\, 2400 Blakemore Avenue\, Nashville\, TN 37212\, USA\, Nashville\, TN\, 37212\, United States
ATTACH;FMTTYPE=image/jpeg:https://azul615.com/wp-content/uploads/2026/02/VmvOsGAtf4kD-021926_assad_7x5.jpg
END:VEVENT
BEGIN:VEVENT
DTSTART;TZID=America/Mexico_City:20260223T073000
DTEND;TZID=America/Mexico_City:20260413T073000
DTSTAMP:20260425T070546
CREATED:20260109T034830Z
LAST-MODIFIED:20260109T034830Z
UID:3339-1771831800-1776065400@azul615.com
SUMMARY:Academia para emprendedores
DESCRIPTION:Williamson\, Inc. y la Cámara de Comercio Hispana de Nashville (NAHCC) presentan por tercer  año consecutivo y bajo el modelo de Kauffman Foundation\, su Academia para emprendedores.\n\nEste curso está diseñado para proporcionarle información a aquellos interesados en establecer  su negocio\, o a los que buscan reforzar conceptos como: mercadotecnia\,
URL:https://azul615.com/event/academia-para-emprendedores/
LOCATION:Zoom y Williamson\, Inc.\, 4031 Aspen Grove Dr. Suite 630 Franklin\, TN 37067\, Franklin\, Williamson\, 37067\, United States
ATTACH;FMTTYPE=image/jpeg:https://azul615.com/wp-content/uploads/2026/01/qrzCXWiL0oFa-2026-Startup-Academy-Flyer--scaled.jpg
END:VEVENT
BEGIN:VEVENT
DTSTART;TZID=America/Mexico_City:20260302T130000
DTEND;TZID=America/Mexico_City:20260518T130000
DTSTAMP:20260425T070546
CREATED:20260215T162520Z
LAST-MODIFIED:20260215T162535Z
UID:3437-1772456400-1779109200@azul615.com
SUMMARY:Asistencia Usando La Biblioteca
DESCRIPTION:Visita la biblioteca parar recibir asistencia buscando un libro\, con la computadora\, usando la impresora\, o otra preguntas sobre la biblioteca en español. Asistencia es disponsible por orden de llegada. Cada Lunes a las 1:00PM
URL:https://azul615.com/event/asistencia-usando-la-biblioteca/
LOCATION:Madison Public Library\, 610 Gallatin Pike\, Madison\, TN\, 37115\, United States
ATTACH;FMTTYPE=image/png:https://azul615.com/wp-content/uploads/2026/02/rCn6vN9ZNfhz-Spanish-Assistance-Flyer.png
END:VEVENT
BEGIN:VEVENT
DTSTART;TZID=America/Mexico_City:20260307T090000
DTEND;TZID=America/Mexico_City:20260413T090000
DTSTAMP:20260425T070546
CREATED:20260211T045437Z
LAST-MODIFIED:20260423T040306Z
UID:3427-1772874000-1776070800@azul615.com
SUMMARY:Cheekwood in Bloom: Red\, White & Blooms
DESCRIPTION:Celebrate history in full bloom! This spring\, Cheekwood’s annual festival of flowers honors America’s 250th anniversary with a spectacular sea of 250\,000 red and white tulips\, purple-blue violas\, and hyacinths. Our growing collection of daffodils adds to the palette\, draping the estate in cheerful bright yellows and pure whites\, creating a vibrant display of color and renewal.\n\nIt’s the perfect setting for families\, friends\, and nature enthusiasts to gather and welcome a new season as winter fades. On select weekends\, enjoy live jazz as talented student musicians from Vanderbilt University’s Blair School of Music perform in the gardens. Stroll through breathtaking scenery\, visit food trucks\, and enjoy American art on display in the Historic Mansion. Experience beauty\, history\, and community at Cheekwood in Bloom!
URL:https://azul615.com/event/cheekwood-in-bloom-red-white-blooms/
LOCATION:Cheekwood Estate & Gardens\, 1200 Forrest Park Drive\, Nashville\, TN\, 37205\, United States
ATTACH;FMTTYPE=image/jpeg:https://azul615.com/wp-content/uploads/2026/02/ZKtLLDvcYAqi-DSC0013-scaled.jpg
END:VEVENT
BEGIN:VEVENT
DTSTART;TZID=America/Mexico_City:20260328T090000
DTEND;TZID=America/Mexico_City:20260328T090000
DTSTAMP:20260425T070546
CREATED:20260206T035253Z
LAST-MODIFIED:20260423T040407Z
UID:3398-1774688400-1774688400@azul615.com
SUMMARY:Holi at Cheekwood
DESCRIPTION:Join Cheekwood as we celebrate Holi\, the Indian “Festival of Spring” and “Festival of Colors.”\nThis educational event will introduce visitors to the vibrant sights\, sounds\, and colors of Indian culture. Hands-on activities for all ages\, tasty fare from local food vendors\, shopping opportunities\, and music and dance performances will shine against the thousands of blooming bulbs. Holi activities are included with membership or general admission.
URL:https://azul615.com/event/holi-at-cheekwood/
LOCATION:Cheekwood Estate & Gardens\, 1200 Forrest Park Drive\, Nashville\, TN\, 37205\, United States
ATTACH;FMTTYPE=image/jpeg:https://azul615.com/wp-content/uploads/2026/01/rdLtyZSf5g5r-EDIT-12622.jpg
END:VEVENT
BEGIN:VEVENT
DTSTART;TZID=America/Mexico_City:20260402T193000
DTEND;TZID=America/Mexico_City:20260402T193000
DTSTAMP:20260425T070546
CREATED:20260303T040644Z
LAST-MODIFIED:20260303T040645Z
UID:3488-1775158200-1775158200@azul615.com
SUMMARY:New York Voices: The Grand Finale
DESCRIPTION:Blair School of Music presents an evening with Grammy-winning vocal ensemble New York Voices\, performing with the Blair Band and joined by special guest the Blair Jazz Choir. One of the premiere vocal jazz groups in the world\, New York Voices is Lauren Kinhan (alto)\, Kim Nazarian (soprano)\, Peter Eldridge (bass)\, and Darmon Meader (tenor\, tenor sax).\n\nThursday\, April 2\, 2026 | Ingram Hall | 7:30 p.m.
URL:https://azul615.com/event/new-york-voices-the-grand-finale/
LOCATION:Vanderbilt University Blair School of Music\, 2400 Blakemore Ave.\, Nashville\, TN\, 37212\, United States
ATTACH;FMTTYPE=image/jpeg:https://azul615.com/wp-content/uploads/2026/03/zAGR8LA80gus-040226_ny_voices_700x700.1.jpg
END:VEVENT
BEGIN:VEVENT
DTSTART;TZID=America/Mexico_City:20260403T090000
DTEND;TZID=America/Mexico_City:20260404T090000
DTSTAMP:20260425T070546
CREATED:20260219T045015Z
LAST-MODIFIED:20260423T040036Z
UID:3446-1775206800-1775293200@azul615.com
SUMMARY:Great Spring Art Hop
DESCRIPTION:Join us for a lively weekend filled with 48 egg hunts for children in every age group.\nThe excitement is not to be missed\, as approximately 36\,000 eggs are filled with treats to be discovered. Go on a scavenger hunt for larger-than-life bunny murals created by Nashville artists and hidden throughout the gardens. This two-day celebration is a wonderful way to hop into spring\, with food trucks\, musical performances\, and more.
URL:https://azul615.com/event/great-spring-art-hop/
LOCATION:Cheekwood Estate & Gardens\, 1200 Forrest Park Drive\, Nashville\, TN\, 37205\, United States
ATTACH;FMTTYPE=image/jpeg:https://azul615.com/wp-content/uploads/2026/02/iW2liOq31nnm-Art-Hop-Feature-Photo-1135x425-1.jpg
END:VEVENT
BEGIN:VEVENT
DTSTART;TZID=America/Mexico_City:20260418T090000
DTEND;TZID=America/Mexico_City:20260419T090000
DTSTAMP:20260425T070546
CREATED:20260219T045121Z
LAST-MODIFIED:20260423T040141Z
UID:3450-1776502800-1776589200@azul615.com
SUMMARY:Dogs & Dogwoods
DESCRIPTION:Dogs plus dogwood trees equals a perfect spring weekend! Bring your furry friend to Cheekwood for a stroll through the gardens and admire our nationally recognized dogwood collection. Enjoy a celebration designed for dog and nature lovers\, featuring food trucks\, local dog-focused vendors\, live music\, and the stunning beauty of flowering dogwoods.
URL:https://azul615.com/event/dogs-dogwoods/
LOCATION:Cheekwood Estate & Gardens\, 1200 Forrest Park Drive\, Nashville\, TN\, 37205\, United States
ATTACH;FMTTYPE=image/jpeg:https://azul615.com/wp-content/uploads/2026/02/PbScdeyjKPBY-Cheekwood-Dog-Revised-e1709756154407.jpg
END:VEVENT
BEGIN:VEVENT
DTSTART;TZID=America/Mexico_City:20260502T090000
DTEND;TZID=America/Mexico_City:20260906T090000
DTSTAMP:20260425T070546
CREATED:20260421T045817Z
LAST-MODIFIED:20260423T035947Z
UID:3616-1777712400-1788685200@azul615.com
SUMMARY:America the Beautiful: National Parks & Landmarks by Rail
DESCRIPTION:Cheekwood’s summer trains spectacular continues the celebration of America’s 250th birthday with an immersive journey through some of the nation’s most treasured sites. With 10 running trains\, more than 850 feet of track\, and 25 iconic landmarks\, this is Cheekwood’s largest train installation yet!
URL:https://azul615.com/event/america-the-beautiful-national-parks-landmarks-by-rail/
LOCATION:Cheekwood Estate & Gardens\, 1200 Forrest Park Drive\, Nashville\, TN\, 37205\, United States
ATTACH;FMTTYPE=image/jpeg:https://azul615.com/wp-content/uploads/2026/04/txYb93jNZSZB-DI0A9113-1.jpg
END:VEVENT
BEGIN:VEVENT
DTSTART;TZID=America/Mexico_City:20260509T090000
DTEND;TZID=America/Mexico_City:20260510T090000
DTSTAMP:20260425T070546
CREATED:20260423T035700Z
LAST-MODIFIED:20260423T035711Z
UID:3639-1778317200-1778403600@azul615.com
SUMMARY:Mother’s Day Plant Sale
DESCRIPTION:Treat the moms in your life to a day surrounded by flowers. Stroll the Bradford Robertson Color Garden as it becomes a showroom for newly planted summer blooms and then take home your favorite annuals\, perennials\, flowering shrubs\, and ready-to-go planters\, including lantana\, coneflower\, salvia\, and hydrangea. Cheekwood’s horticulturists will be on-site to share tips.
URL:https://azul615.com/event/mothers-day-plant-sale/
LOCATION:Cheekwood Estate & Gardens\, 1200 Forrest Park Drive\, Nashville\, TN\, 37205\, United States
ATTACH;FMTTYPE=image/jpeg:https://azul615.com/wp-content/uploads/2026/04/NtXCpeiFbF61-DSC9262-2.jpg
END:VEVENT
BEGIN:VEVENT
DTSTART;TZID=America/Mexico_City:20260514T110000
DTEND;TZID=America/Mexico_City:20260524T110000
DTSTAMP:20260425T070546
CREATED:20260313T015153Z
LAST-MODIFIED:20260313T015154Z
UID:3545-1778756400-1779620400@azul615.com
SUMMARY:Venta de libros de la biblioteca de Madison
DESCRIPTION:Apoya la recaudación de fondos de la Biblioteca de Madison. Venta de libros\, tazas\, camisetas\, y rompecabezas. Los fondos recaudados se utilizan para apoyar nuestros programas de la biblioteca.
URL:https://azul615.com/event/venta-de-libros-de-la-biblioteca-de-madison/
LOCATION:Madison Public Library\, 610 Gallatin Pike\, Madison\, TN\, 37115\, United States
ATTACH;FMTTYPE=image/png:https://azul615.com/wp-content/uploads/2026/03/5EJCv8UWgLH8-2026-Book-Sale-Flyer-.png
END:VEVENT
BEGIN:VEVENT
DTSTART;TZID=America/Mexico_City:20260528T180000
DTEND;TZID=America/Mexico_City:20260528T180000
DTSTAMP:20260425T070546
CREATED:20260421T045944Z
LAST-MODIFIED:20260423T035841Z
UID:3625-1779991200-1779991200@azul615.com
SUMMARY:Nashville Opera at Cheekwood
DESCRIPTION:The Nashville Opera brings powerful voices and unforgettable stories into one of the city’s most stunning outdoor spaces. Bring a lawn chair or spread out a blanket and enjoy wine available for purchase—by the glass or bottle—along with beer\, cocktails\, and bites from local food trucks.\nNashville Opera artists will perform a mix of opera favorites and familiar classics\, creating a night that is both approachable and deeply moving.\nPremium ticket packages are available\, offering exclusive perks for an elevated concert experience.
URL:https://azul615.com/event/nashville-opera-at-cheekwood/
LOCATION:Cheekwood Estate & Gardens\, 1200 Forrest Park Drive\, Nashville\, TN\, 37205\, United States
ATTACH;FMTTYPE=image/jpeg:https://azul615.com/wp-content/uploads/2026/04/FiwqXRU8LH9G-Nashville-Opera_20230526_180200-scaled-1.jpg
END:VEVENT
BEGIN:VEVENT
DTSTART;TZID=America/Mexico_City:20260604T170000
DTEND;TZID=America/Mexico_City:20260827T170000
DTSTAMP:20260425T070546
CREATED:20260423T035540Z
LAST-MODIFIED:20260423T035543Z
UID:3643-1780592400-1787850000@azul615.com
SUMMARY:Thursday Night Out
DESCRIPTION:Thursday weekly concerts on Arboretum Lawn offer a relaxing summer escape with song\, food\, and drink. A diverse music lineup provides the soundtrack while guests savor seasonal beers\, specialty cocktails\, and irresistible bites from the city’s favorite food trucks and Perenn at Cheekwood.\n\nEnjoy a Thursday Night Out of live music while exploring Cheekwood’s beautiful gardens and this year’s blockbuster exhibition\, America the Beautiful: National Parks & Landmarks by Rail. These ticketed concerts are popular\, so reserve your spot early and bring your family and friends out to enjoy a lovely evening.
URL:https://azul615.com/event/thursday-night-out/
LOCATION:Cheekwood Estate & Gardens\, 1200 Forrest Park Drive\, Nashville\, TN\, 37205\, United States
ATTACH;FMTTYPE=image/jpeg:https://azul615.com/wp-content/uploads/2026/04/e0p46IVjPMX0-DSCF1237.jpg
END:VEVENT
BEGIN:VEVENT
DTSTART;TZID=America/Mexico_City:20260801T090000
DTEND;TZID=America/Mexico_City:20260809T090000
DTSTAMP:20260425T070546
CREATED:20260424T054609Z
LAST-MODIFIED:20260424T054612Z
UID:3666-1785574800-1786266000@azul615.com
SUMMARY:Fleurs de Villes THE GILDED AGE 
DESCRIPTION:Global flower show sensation Fleurs de Villes returns to Cheekwood to debut Fleurs de Villes THE GILDED AGE\, presented in a flower-filled partnership with HBO Max® — a fresh floral celebration that brings the opulence\, ambition\, and iconic characters of the hit HBO® drama series to life through stunning fresh floral artistry.\n\nFrom August 1–9\, discover a curated collection of one-of-a-kind fresh floral mannequins displayed throughout Cheekwood’s Botanic Hall\, Frist Learning Center\, and Historic Mansion & Museum. This stunning showcase celebrates The Gilded Age\, the acclaimed drama set in late 19th-century New York\, where old money and new ambition collide in a time of extraordinary social change — reimagined through spectacular floral storytelling.\n\nCreated by Nashville’s talented floral designers\, each floral masterpiece interprets the series’ distinct characters and opulent style — from the bold\, aspirational gowns of Bertha Russell to the refined sophistication of Agnes van Rhijn\, the understated elegance of Marian Brook\, and the modern perspective of Peggy Scott — inviting visitors to experience the elegance and intrigue of The Gilded Age in full bloom.
URL:https://azul615.com/event/fleurs-de-villes-the-gilded-age/
LOCATION:Cheekwood Estate & Gardens\, 1200 Forrest Park Drive\, Nashville\, TN\, 37205\, United States
ATTACH;FMTTYPE=image/jpeg:https://azul615.com/wp-content/uploads/2026/04/hFRnnJ7PWa0k-FDV-GA-Cheekwood_Website-Hero-2560x2160-2-scaled-1.jpg
END:VEVENT
END:VCALENDAR