BEGIN:VCALENDAR
VERSION:2.0
PRODID:-//Azul 615 - ECPv6.15.13.1//NONSGML v1.0//EN
CALSCALE:GREGORIAN
METHOD:PUBLISH
X-ORIGINAL-URL:https://azul615.com
X-WR-CALDESC:Events for Azul 615
REFRESH-INTERVAL;VALUE=DURATION:PT1H
X-Robots-Tag:noindex
X-PUBLISHED-TTL:PT1H
BEGIN:VTIMEZONE
TZID:America/Mexico_City
BEGIN:STANDARD
TZOFFSETFROM:-0600
TZOFFSETTO:-0600
TZNAME:CST
DTSTART:20250101T000000
END:STANDARD
END:VTIMEZONE
BEGIN:VEVENT
DTSTART;TZID=America/Mexico_City:20260502T090000
DTEND;TZID=America/Mexico_City:20260906T090000
DTSTAMP:20260424T120836
CREATED:20260421T045817Z
LAST-MODIFIED:20260423T035947Z
UID:3616-1777712400-1788685200@azul615.com
SUMMARY:America the Beautiful: National Parks & Landmarks by Rail
DESCRIPTION:Cheekwood’s summer trains spectacular continues the celebration of America’s 250th birthday with an immersive journey through some of the nation’s most treasured sites. With 10 running trains\, more than 850 feet of track\, and 25 iconic landmarks\, this is Cheekwood’s largest train installation yet!
URL:https://azul615.com/event/america-the-beautiful-national-parks-landmarks-by-rail/
LOCATION:Cheekwood Estate & Gardens\, 1200 Forrest Park Drive\, Nashville\, TN\, 37205\, United States
ATTACH;FMTTYPE=image/jpeg:https://azul615.com/wp-content/uploads/2026/04/txYb93jNZSZB-DI0A9113-1.jpg
END:VEVENT
BEGIN:VEVENT
DTSTART;TZID=America/Mexico_City:20260514T110000
DTEND;TZID=America/Mexico_City:20260524T110000
DTSTAMP:20260424T120836
CREATED:20260313T015153Z
LAST-MODIFIED:20260313T015154Z
UID:3545-1778756400-1779620400@azul615.com
SUMMARY:Venta de libros de la biblioteca de Madison
DESCRIPTION:Apoya la recaudación de fondos de la Biblioteca de Madison. Venta de libros\, tazas\, camisetas\, y rompecabezas. Los fondos recaudados se utilizan para apoyar nuestros programas de la biblioteca.
URL:https://azul615.com/event/venta-de-libros-de-la-biblioteca-de-madison/
LOCATION:Madison Public Library\, 610 Gallatin Pike\, Madison\, TN\, 37115\, United States
ATTACH;FMTTYPE=image/png:https://azul615.com/wp-content/uploads/2026/03/5EJCv8UWgLH8-2026-Book-Sale-Flyer-.png
END:VEVENT
END:VCALENDAR