BEGIN:VCALENDAR
VERSION:2.0
PRODID:-//Azul 615 - ECPv6.15.13.1//NONSGML v1.0//EN
CALSCALE:GREGORIAN
METHOD:PUBLISH
X-WR-CALNAME:Azul 615
X-ORIGINAL-URL:https://azul615.com
X-WR-CALDESC:Events for Azul 615
REFRESH-INTERVAL;VALUE=DURATION:PT1H
X-Robots-Tag:noindex
X-PUBLISHED-TTL:PT1H
BEGIN:VTIMEZONE
TZID:America/Mexico_City
BEGIN:STANDARD
TZOFFSETFROM:-0600
TZOFFSETTO:-0600
TZNAME:CST
DTSTART:20250101T000000
END:STANDARD
END:VTIMEZONE
BEGIN:VEVENT
DTSTART;TZID=America/Mexico_City:20260223T073000
DTEND;TZID=America/Mexico_City:20260413T073000
DTSTAMP:20260424T104653
CREATED:20260109T034830Z
LAST-MODIFIED:20260109T034830Z
UID:3339-1771831800-1776065400@azul615.com
SUMMARY:Academia para emprendedores
DESCRIPTION:Williamson\, Inc. y la Cámara de Comercio Hispana de Nashville (NAHCC) presentan por tercer  año consecutivo y bajo el modelo de Kauffman Foundation\, su Academia para emprendedores.\n\nEste curso está diseñado para proporcionarle información a aquellos interesados en establecer  su negocio\, o a los que buscan reforzar conceptos como: mercadotecnia\,
URL:https://azul615.com/event/academia-para-emprendedores/
LOCATION:Zoom y Williamson\, Inc.\, 4031 Aspen Grove Dr. Suite 630 Franklin\, TN 37067\, Franklin\, Williamson\, 37067\, United States
ATTACH;FMTTYPE=image/jpeg:https://azul615.com/wp-content/uploads/2026/01/qrzCXWiL0oFa-2026-Startup-Academy-Flyer--scaled.jpg
END:VEVENT
BEGIN:VEVENT
DTSTART;TZID=America/Mexico_City:20260302T130000
DTEND;TZID=America/Mexico_City:20260518T130000
DTSTAMP:20260424T104653
CREATED:20260215T162520Z
LAST-MODIFIED:20260215T162535Z
UID:3437-1772456400-1779109200@azul615.com
SUMMARY:Asistencia Usando La Biblioteca
DESCRIPTION:Visita la biblioteca parar recibir asistencia buscando un libro\, con la computadora\, usando la impresora\, o otra preguntas sobre la biblioteca en español. Asistencia es disponsible por orden de llegada. Cada Lunes a las 1:00PM
URL:https://azul615.com/event/asistencia-usando-la-biblioteca/
LOCATION:Madison Public Library\, 610 Gallatin Pike\, Madison\, TN\, 37115\, United States
ATTACH;FMTTYPE=image/png:https://azul615.com/wp-content/uploads/2026/02/rCn6vN9ZNfhz-Spanish-Assistance-Flyer.png
END:VEVENT
BEGIN:VEVENT
DTSTART;TZID=America/Mexico_City:20260307T090000
DTEND;TZID=America/Mexico_City:20260413T090000
DTSTAMP:20260424T104653
CREATED:20260211T045437Z
LAST-MODIFIED:20260423T040306Z
UID:3427-1772874000-1776070800@azul615.com
SUMMARY:Cheekwood in Bloom: Red\, White & Blooms
DESCRIPTION:Celebrate history in full bloom! This spring\, Cheekwood’s annual festival of flowers honors America’s 250th anniversary with a spectacular sea of 250\,000 red and white tulips\, purple-blue violas\, and hyacinths. Our growing collection of daffodils adds to the palette\, draping the estate in cheerful bright yellows and pure whites\, creating a vibrant display of color and renewal.\n\nIt’s the perfect setting for families\, friends\, and nature enthusiasts to gather and welcome a new season as winter fades. On select weekends\, enjoy live jazz as talented student musicians from Vanderbilt University’s Blair School of Music perform in the gardens. Stroll through breathtaking scenery\, visit food trucks\, and enjoy American art on display in the Historic Mansion. Experience beauty\, history\, and community at Cheekwood in Bloom!
URL:https://azul615.com/event/cheekwood-in-bloom-red-white-blooms/
LOCATION:Cheekwood Estate & Gardens\, 1200 Forrest Park Drive\, Nashville\, TN\, 37205\, United States
ATTACH;FMTTYPE=image/jpeg:https://azul615.com/wp-content/uploads/2026/02/ZKtLLDvcYAqi-DSC0013-scaled.jpg
END:VEVENT
END:VCALENDAR