BEGIN:VCALENDAR
VERSION:2.0
PRODID:-//Azul 615 - ECPv6.15.13.1//NONSGML v1.0//EN
CALSCALE:GREGORIAN
METHOD:PUBLISH
X-ORIGINAL-URL:https://azul615.com
X-WR-CALDESC:Events for Azul 615
REFRESH-INTERVAL;VALUE=DURATION:PT1H
X-Robots-Tag:noindex
X-PUBLISHED-TTL:PT1H
BEGIN:VTIMEZONE
TZID:America/Mexico_City
BEGIN:STANDARD
TZOFFSETFROM:-0600
TZOFFSETTO:-0600
TZNAME:CST
DTSTART:20240101T000000
END:STANDARD
END:VTIMEZONE
BEGIN:VEVENT
DTSTART;TZID=America/Mexico_City:20251010T100000
DTEND;TZID=America/Mexico_City:20260104T100000
DTSTAMP:20260424T183136
CREATED:20250923T034635Z
LAST-MODIFIED:20250923T034643Z
UID:3066-1760090400-1767520800@azul615.com
SUMMARY:New African Masquerades: Artistic Innovations and Collaborations
DESCRIPTION:New African Masquerades: Artistic Innovations and Collaborations highlights the stories of four contemporary masquerade artists\, their motivations\, artistic choices\, and the patronage and economic networks with which they engage. Through the presentation of works of Chief Ekpenyong Bassey Nsa (Nigeria)\, David Sanou (Burkina Faso)\, Sheku “Goldenfinger” Fofanah (Sierra Leone)\, and Hervé Youmbi (Cameroon)\, the exhibition offers fresh research models for contemporary masquerade\, bringing to the fore issues relating to ownership and research ethics.\n\nA collaboration between an international team of scholars and artists\, this is the first major exhibition on contemporary West African masquerade artists to focus on individual creators rather than the typical presentation of masquerades as products of entire cultures\, which undermines the nuanced and layered stories that individual artists and masquerades tell.\nImage: New African Masquerades: Artistic Innovations and Collaborations is organized by the New Orleans Museum of Art\, in partnership with Musée des Civilisations noires in Dakar\, Senegal\, and received generous support from the National Endowment for the Humanities
URL:https://azul615.com/event/new-african-masquerades-artistic-innovations-and-collaborations/
LOCATION:Frist Art Museum\, 919 Broadway\, Nashville\, TN\, 37203\, United States
ATTACH;FMTTYPE=image/jpeg:https://azul615.com/wp-content/uploads/2025/09/abpOb48vDF4b-Sanou_01_web-scaled.jpg
END:VEVENT
BEGIN:VEVENT
DTSTART;TZID=America/Mexico_City:20251101T090000
DTEND;TZID=America/Mexico_City:20251102T090000
DTSTAMP:20260424T183136
CREATED:20251013T074052Z
LAST-MODIFIED:20251013T074053Z
UID:3092-1761987600-1762074000@azul615.com
SUMMARY:El Día de los Muertos at Cheekwood
DESCRIPTION:El Día de los Muertos\, the Day of the Dead\, is one of the most important celebrations in Mexico and Latin America. The festival is known for colorful decorations\, energetic music\, and elaborate displays that demonstrate the culture’s strong sense of love and respect for ancestors while celebrating the continuance of life. The vibrant two-day event is the largest Day of the Dead festival in the region.
URL:https://azul615.com/event/el-dia-de-los-muertos-at-cheekwood/
LOCATION:Cheekwood Estate & Gardens\, 1200 Forrest Park Drive\, Nashville\, TN\, 37205\, United States
ATTACH;FMTTYPE=image/jpeg:https://azul615.com/wp-content/uploads/2025/09/TmdYukXMAzsH-2021_DiaDeMuertos_CaitlinHarris_DSC8447-scaled-1.jpg
END:VEVENT
END:VCALENDAR