BEGIN:VCALENDAR
VERSION:2.0
PRODID:-//Azul 615 - ECPv6.15.13.1//NONSGML v1.0//EN
CALSCALE:GREGORIAN
METHOD:PUBLISH
X-WR-CALNAME:Azul 615
X-ORIGINAL-URL:https://azul615.com
X-WR-CALDESC:Events for Azul 615
REFRESH-INTERVAL;VALUE=DURATION:PT1H
X-Robots-Tag:noindex
X-PUBLISHED-TTL:PT1H
BEGIN:VTIMEZONE
TZID:America/Mexico_City
BEGIN:STANDARD
TZOFFSETFROM:-0600
TZOFFSETTO:-0600
TZNAME:CST
DTSTART:20240101T000000
END:STANDARD
END:VTIMEZONE
BEGIN:VEVENT
DTSTART;TZID=America/Mexico_City:20250712T090000
DTEND;TZID=America/Mexico_City:20251005T090000
DTSTAMP:20260424T212614
CREATED:20250612T044547Z
LAST-MODIFIED:20250612T044552Z
UID:2854-1752310800-1759654800@azul615.com
SUMMARY:Jazz Greats: Classic Photographs from the Bank of America Collection at Cheekwood
DESCRIPTION:The magic that happens when a photographer captures a precise moment in a performing artist’s life – on or off stage – is on view in Jazz Greats: Classic Photographs from the Bank of America Collection. The exhibition consists of 33 photographs by 14 photographers that date from the 1920s to the 1980s. The photographs portray jazz legends such as Ella Fitzgerald and Louis Armstrong and celebrate the dynamic nature of the genre. This exhibition has been loaned through the Bank of America Art in our Communities® program.
URL:https://azul615.com/event/jazz-greats-classic-photographs-from-the-bank-of-america-collection-at-cheekwood/
LOCATION:Cheekwood Estate & Gardens\, 1200 Forrest Park Drive\, Nashville\, TN\, 37205\, United States
ATTACH;FMTTYPE=image/jpeg:https://azul615.com/wp-content/uploads/2025/06/l9hkhI8ASgL5-Gottlieb_William_Dizzy_Gillespie_15561-scaled.jpg
END:VEVENT
BEGIN:VEVENT
DTSTART;TZID=America/Mexico_City:20250830T090000
DTEND;TZID=America/Mexico_City:20251026T090000
DTSTAMP:20260424T212614
CREATED:20250923T034119Z
LAST-MODIFIED:20250923T034135Z
UID:2960-1756544400-1761469200@azul615.com
SUMMARY:INTERVENTIONS: Shawn Huckins at Cheekwood
DESCRIPTION:American painter\, Shawn Huckins\, recreates classical works of art with the addition of painted textiles and fabrics to showcase his appreciation of history while examining and challenging contemporary culture. Huckins’ installation will consist of 7 paintings throughout the period rooms inspired by works from Cheekwood’s permanent collection and the surrounding landscape.\n\nNow in its fourth year\, INTERVENTIONS is an arts initiative to activate the historic period rooms. The series invites renowned artists from around the globe to imagine and implement a connection between their contemporary work and the fine and decorative arts within the period rooms. INTERVENTIONS is made possible by the Sandra Schatten Foundation.
URL:https://azul615.com/event/interventions-shawn-huckins-at-cheekwood/
LOCATION:Cheekwood Estate & Gardens\, 1200 Forrest Park Drive\, Nashville\, TN\, 37205\, United States
ATTACH;FMTTYPE=image/jpeg:https://azul615.com/wp-content/uploads/2025/07/DtI2z6ik5Jov-thumbnail_Huckins-Studio-2.jpg
END:VEVENT
BEGIN:VEVENT
DTSTART;TZID=America/Mexico_City:20250913T090000
DTEND;TZID=America/Mexico_City:20251030T090000
DTSTAMP:20260424T212614
CREATED:20250903T040746Z
LAST-MODIFIED:20250903T040811Z
UID:2997-1757754000-1761814800@azul615.com
SUMMARY:Harvest NIGHTS at Cheekwood
DESCRIPTION:Harvest NIGHTS are new this year! Thursday evenings filled with seasonal delights\, entertainment\, and special events!\n\nEnjoy musical performances\, food trucks\, a Spooky Scarecrow Trail\, seasonal libations\, and a memorable outing for the whole family.\n\nSpecial Events:\nSeptember 18 | Pumkinpalooza!  \nPumpkin carving contests and demonstrations by master carver Lundy Cupp.\n\nSeptember 25 | Salsa Night at Cheekwood \nCelebrate Hispanic Heritage Month with salsa dancing\, delicious food\, and more.\n\nOctober 9 | Oktoberfest at Cheekwood \nRelax and take in the scenery with beer\, brats\, and Bavarian music.\n\nOctober 30 | Bootanical Bash  \nGet in the mood at our costume contest and dance party.
URL:https://azul615.com/event/harvest-nights-at-cheekwood/
LOCATION:Cheekwood Estate & Gardens\, 1200 Forrest Park Drive\, Nashville\, TN\, 37205\, United States
ATTACH;FMTTYPE=image/jpeg:https://azul615.com/wp-content/uploads/2025/08/3Gwf9raLaDTq-Beer-Garden-Fall-2023-scaled.jpg
END:VEVENT
BEGIN:VEVENT
DTSTART;TZID=America/Mexico_City:20250913T090000
DTEND;TZID=America/Mexico_City:20251030T090000
DTSTAMP:20260424T212614
CREATED:20250903T040859Z
LAST-MODIFIED:20250903T040921Z
UID:2993-1757754000-1761814800@azul615.com
SUMMARY:Cheekwood Harvest
DESCRIPTION:As the crisp air arrives and the leaves put on nature’s final show of the year\, fall magic returns at Cheekwood Harvest. Step into Pumpkin Village\, where three charming pumpkin houses create an inviting wonderland\, thousands of chrysanthemums bloom with color\, and more than 75\,000 pumpkins are nestled throughout the gardens.
URL:https://azul615.com/event/cheekwood-harvest/
LOCATION:Cheekwood Estate & Gardens\, 1200 Forrest Park Drive\, Nashville\, TN\, 37205\, United States
ATTACH;FMTTYPE=image/jpeg:https://azul615.com/wp-content/uploads/2025/08/ocIkoGHliimy-Cheekwood_20221022-903.jpg
END:VEVENT
BEGIN:VEVENT
DTSTART;TZID=America/Mexico_City:20250916T150000
DTEND;TZID=America/Mexico_City:20251030T150000
DTSTAMP:20260424T212614
CREATED:20250813T040925Z
LAST-MODIFIED:20250813T040927Z
UID:2976-1758034800-1761836400@azul615.com
SUMMARY:Harvest Afternoon Tea at Cheekwood
DESCRIPTION:Treat yourself to an Afternoon Tea at Café 29. Tableside service features a selection of seasonal teas\, savory bite-sized sandwiches\, and freshly baked sweets for parties of 2 or 4 people.
URL:https://azul615.com/event/harvest-afternoon-tea-at-cheekwood/
LOCATION:Cheekwood Estate & Gardens\, 1200 Forrest Park Drive\, Nashville\, TN\, 37205\, United States
ATTACH;FMTTYPE=image/jpeg:https://azul615.com/wp-content/uploads/2025/08/MbbcaUNzWyG2-DSC1869-scaled-1.jpg
END:VEVENT
BEGIN:VEVENT
DTSTART;TZID=America/Mexico_City:20250927T190000
DTEND;TZID=America/Mexico_City:20250927T190000
DTSTAMP:20260424T212614
CREATED:20250822T040308Z
LAST-MODIFIED:20250923T033902Z
UID:3005-1758999600-1758999600@azul615.com
SUMMARY:CREARTE 2025 - CONCURSO SEMILLAS Y RAICES
DESCRIPTION:We invite artists and creatives to express—through the following artistic disciplines—how their connection to their roots\, whether real or symbolic\, allows them to grow\, resist\, and transform their surroundings.\n\nWe want art to be a powerful VOICE in the face of the challenges our communities face.\n\nIn a world marked by displacement and hostility toward migration\, we celebrate the human capacity to take root even in unfamiliar soil. Because roots are not only inherited from the past—sometimes they are built in the present\, through memory\, struggle\, and the desire to belong.\n\nEveryone is welcome to participate by submitting their video\, photograph\, or written work via email.\n\nhttps://docs.google.com/forms/d/e/1FAIpQLScy53iGg2pmt9eN9gNMp8WQ27ZvDq5hkbHEwlbPFM_dbHKgKQ/viewform\n\n*CREARTE: SEEDS AND ROOTS – KIDS (AGES 7–14)\nCategories: Drawing\, Poetry \, Dance and Music\n\nNOTE: No registration fee\n\n*CREARTE: SEEDS AND ROOTS – (AGES 15 AND UP)\nCategories: Short Film\, Painting\, Dance \,Music and Writing\n\nNOTE: Registration fee is $25 per category\n\nAWARDS EVENT\n\nFIRST PLACE PRIZE IN EACH KIDS CATEGORY $200\n\nFIRST PLACE PRIZE IN EACH ADULT CATEGORY $1000\n\n🎉 The grand finale and awards ceremony will take place on September 27\, 2025 (location to be announced)\, featuring the best videos and pieces that embody the spirit of Seeds and Roots. A surprise prize will be awarded to the top entry in each category!\n\nGet ready to submit your work and be part of this unique experience of cultural expression! Join us in celebrating our roots and planting a future full of art and unity!
URL:https://azul615.com/event/crearte-2025-concurso-semillas-y-raices/
LOCATION:TE TROBADOUR NASHVILLE\, 2416 MUSIC VALLEY DR\, NASHVILLE\, TN\, 37214\, United States
ATTACH;FMTTYPE=image/png:https://azul615.com/wp-content/uploads/2025/08/ogShh0zdqYNl-9.png
END:VEVENT
END:VCALENDAR