BEGIN:VCALENDAR
VERSION:2.0
PRODID:-//Azul 615 - ECPv6.15.13.1//NONSGML v1.0//EN
CALSCALE:GREGORIAN
METHOD:PUBLISH
X-ORIGINAL-URL:https://azul615.com
X-WR-CALDESC:Events for Azul 615
REFRESH-INTERVAL;VALUE=DURATION:PT1H
X-Robots-Tag:noindex
X-PUBLISHED-TTL:PT1H
BEGIN:VTIMEZONE
TZID:America/Mexico_City
BEGIN:STANDARD
TZOFFSETFROM:-0600
TZOFFSETTO:-0600
TZNAME:CST
DTSTART:20240101T000000
END:STANDARD
END:VTIMEZONE
BEGIN:VEVENT
DTSTART;TZID=America/Mexico_City:20250712T090000
DTEND;TZID=America/Mexico_City:20251005T090000
DTSTAMP:20260424T212609
CREATED:20250612T044547Z
LAST-MODIFIED:20250612T044552Z
UID:2854-1752310800-1759654800@azul615.com
SUMMARY:Jazz Greats: Classic Photographs from the Bank of America Collection at Cheekwood
DESCRIPTION:The magic that happens when a photographer captures a precise moment in a performing artist’s life – on or off stage – is on view in Jazz Greats: Classic Photographs from the Bank of America Collection. The exhibition consists of 33 photographs by 14 photographers that date from the 1920s to the 1980s. The photographs portray jazz legends such as Ella Fitzgerald and Louis Armstrong and celebrate the dynamic nature of the genre. This exhibition has been loaned through the Bank of America Art in our Communities® program.
URL:https://azul615.com/event/jazz-greats-classic-photographs-from-the-bank-of-america-collection-at-cheekwood/
LOCATION:Cheekwood Estate & Gardens\, 1200 Forrest Park Drive\, Nashville\, TN\, 37205\, United States
ATTACH;FMTTYPE=image/jpeg:https://azul615.com/wp-content/uploads/2025/06/l9hkhI8ASgL5-Gottlieb_William_Dizzy_Gillespie_15561-scaled.jpg
END:VEVENT
BEGIN:VEVENT
DTSTART;TZID=America/Mexico_City:20250830T090000
DTEND;TZID=America/Mexico_City:20251026T090000
DTSTAMP:20260424T212609
CREATED:20250923T034119Z
LAST-MODIFIED:20250923T034135Z
UID:2960-1756544400-1761469200@azul615.com
SUMMARY:INTERVENTIONS: Shawn Huckins at Cheekwood
DESCRIPTION:American painter\, Shawn Huckins\, recreates classical works of art with the addition of painted textiles and fabrics to showcase his appreciation of history while examining and challenging contemporary culture. Huckins’ installation will consist of 7 paintings throughout the period rooms inspired by works from Cheekwood’s permanent collection and the surrounding landscape.\n\nNow in its fourth year\, INTERVENTIONS is an arts initiative to activate the historic period rooms. The series invites renowned artists from around the globe to imagine and implement a connection between their contemporary work and the fine and decorative arts within the period rooms. INTERVENTIONS is made possible by the Sandra Schatten Foundation.
URL:https://azul615.com/event/interventions-shawn-huckins-at-cheekwood/
LOCATION:Cheekwood Estate & Gardens\, 1200 Forrest Park Drive\, Nashville\, TN\, 37205\, United States
ATTACH;FMTTYPE=image/jpeg:https://azul615.com/wp-content/uploads/2025/07/DtI2z6ik5Jov-thumbnail_Huckins-Studio-2.jpg
END:VEVENT
BEGIN:VEVENT
DTSTART;TZID=America/Mexico_City:20250910T150000
DTEND;TZID=America/Mexico_City:20250910T150000
DTSTAMP:20260424T212609
CREATED:20250903T040551Z
LAST-MODIFIED:20250903T040620Z
UID:3045-1757516400-1757516400@azul615.com
SUMMARY:La Cara de Americana
DESCRIPTION:💥LA CARA PRODUCTIONS PRESENTA:\nLa Cara De Americana en AMERICANAFEST\nMiercoles 10 de Sept 3-6 pm ➡️InDo 632 Fogg St\nUn evento musical que marcara la historia de AMERICANAFEST. No te pierdas esta experiencia inmersiva donde representaremos a nuestra cultura Latina con Musica en Vivo\, Exhibicion de intrumentos\, Photo Booth\, Bocadillos y mas! \n✅COMPLETAMENTE GRATIS!!\n\n🎵PARTICIPACION MUSICAL🎵\nAna Cristina Cash\nLeah Galvan Turner\nRachel Rodriguez\nSweet Lizzy Project\n\n🍹Cocktails provided by Trovador Rum\n🌮Bocadillos by Sweeza Super Quesadillas\n🪗Instrument Petting Zoo Brought to You By:\nHohner Accordions\, H Jimenez\, Lanikai \n📸Photo Booth for the memories \n📻Live Radio Broadcast by El Jefe 96.7 FM
URL:https://azul615.com/event/la-cara-de-americana/
LOCATION:InDo Nashville\, 632 Fogg St.\, Nashville\, TN\, 37203\, United States
ATTACH;FMTTYPE=image/jpeg:https://azul615.com/wp-content/uploads/2025/09/6HGwzwMcYio8-inbound6143607348384329393.jpg
END:VEVENT
END:VCALENDAR