BEGIN:VCALENDAR
VERSION:2.0
PRODID:-//Azul 615 - ECPv6.15.13.1//NONSGML v1.0//EN
CALSCALE:GREGORIAN
METHOD:PUBLISH
X-WR-CALNAME:Azul 615
X-ORIGINAL-URL:https://azul615.com
X-WR-CALDESC:Events for Azul 615
REFRESH-INTERVAL;VALUE=DURATION:PT1H
X-Robots-Tag:noindex
X-PUBLISHED-TTL:PT1H
BEGIN:VTIMEZONE
TZID:America/Mexico_City
BEGIN:STANDARD
TZOFFSETFROM:-0600
TZOFFSETTO:-0600
TZNAME:CST
DTSTART:20240101T000000
END:STANDARD
END:VTIMEZONE
BEGIN:VEVENT
DTSTART;TZID=America/Mexico_City:20250426T090000
DTEND;TZID=America/Mexico_City:20250615T090000
DTSTAMP:20260425T050810
CREATED:20250529T205943Z
LAST-MODIFIED:20250529T205948Z
UID:2814-1745658000-1749978000@azul615.com
SUMMARY:2025 Martin Shallenberger Artist-in-Residence at Cheekwood: Tamara Kostianovsky
DESCRIPTION:Argentine American\, Brooklyn-based mixed media artist Tamara Kostianovsky is Cheekwood’s 2025 Artist-in-Residence.\nKostianovsky’s sculptural installations\, often crafted from discarded textiles\, are both intimate and tactile\, transforming personal materials like old clothes and linens into surreal forms.
URL:https://azul615.com/event/2025-martin-shallenberger-artist-in-residence-at-cheekwood-tamara-kostianovsky/
LOCATION:Cheekwood Estate & Gardens\, 1200 Forrest Park Drive\, Nashville\, TN\, 37205\, United States
ATTACH;FMTTYPE=image/jpeg:https://azul615.com/wp-content/uploads/2025/05/cY2s8Q2zMXkv-Tamara20_at_Work_Yaddo-scaled-1.jpg
END:VEVENT
END:VCALENDAR